BEGIN:VCALENDAR
VERSION:2.0
PRODID:-//Mid-Coast Audubon - ECPv6.15.20//NONSGML v1.0//EN
CALSCALE:GREGORIAN
METHOD:PUBLISH
X-ORIGINAL-URL:https://midcoast.maineaudubon.org
X-WR-CALDESC:Events for Mid-Coast Audubon
REFRESH-INTERVAL;VALUE=DURATION:PT1H
X-Robots-Tag:noindex
X-PUBLISHED-TTL:PT1H
BEGIN:VTIMEZONE
TZID:America/New_York
BEGIN:DAYLIGHT
TZOFFSETFROM:-0500
TZOFFSETTO:-0400
TZNAME:EDT
DTSTART:20240310T070000
END:DAYLIGHT
BEGIN:STANDARD
TZOFFSETFROM:-0400
TZOFFSETTO:-0500
TZNAME:EST
DTSTART:20241103T060000
END:STANDARD
BEGIN:DAYLIGHT
TZOFFSETFROM:-0500
TZOFFSETTO:-0400
TZNAME:EDT
DTSTART:20250309T070000
END:DAYLIGHT
BEGIN:STANDARD
TZOFFSETFROM:-0400
TZOFFSETTO:-0500
TZNAME:EST
DTSTART:20251102T060000
END:STANDARD
BEGIN:DAYLIGHT
TZOFFSETFROM:-0500
TZOFFSETTO:-0400
TZNAME:EDT
DTSTART:20260308T070000
END:DAYLIGHT
BEGIN:STANDARD
TZOFFSETFROM:-0400
TZOFFSETTO:-0500
TZNAME:EST
DTSTART:20261101T060000
END:STANDARD
END:VTIMEZONE
BEGIN:VEVENT
DTSTART;TZID=America/New_York:20251120T183000
DTEND;TZID=America/New_York:20251120T193000
DTSTAMP:20260425T062115
CREATED:20250902T152306Z
LAST-MODIFIED:20251102T155434Z
UID:1737-1763663400-1763667000@midcoast.maineaudubon.org
SUMMARY:Mt Washington Observatory\, Home of the World's Worst Weather
DESCRIPTION:In the northeastern United States\, a unique combination of topography\, geography\, and geology creates one of the world’s most extreme environments – the summit of Mount Washington. Nowhere else on Earth experiences such consistent sub-zero temperatures\, hurricane-force winds\, freezing fog\, and driving snow. These extreme conditions have earned Mount Washington the title\, “Home of the World’s Worst Weather”. \nVia Zoom\, this virtual tour allows you to meet and interact with the summit weather team\, learn how they create forecasts\, see the instruments they use to capture Mount Washington’s legendary extremes\, and experience the unique facility all from the comfort of home! \nThis program takes place on Zoom only. Click here to register. \nBrian Fitzgerald serves as Mount Washington Observatory’s Director of Education\, based out of the Observatory’s administrative offices in North Conway\, New Hampshire. Previously\, Brian has served as a summit intern and weather observer/education specialist helping to deliver educational programs and tours on the summit. In addition to his experiences on “the Rockpile\,” Brian has worked as Blue Hill Observatory’s Chief Weather Observer\, and as a Hut Croo and Naturalist for the Appalachian Mountain Club’s backcountry huts. Brian holds a bachelor’s degree in Environmental Conservation Studies from the University of New Hampshire\, and a Master of Education in Science Education from Boston University.
URL:https://midcoast.maineaudubon.org/event/mount-washington-observatory/
CATEGORIES:Event,Programs
END:VEVENT
END:VCALENDAR