BEGIN:VCALENDAR
VERSION:2.0
PRODID:-//Mid-Coast Audubon - ECPv6.15.20//NONSGML v1.0//EN
CALSCALE:GREGORIAN
METHOD:PUBLISH
X-WR-CALNAME:Mid-Coast Audubon
X-ORIGINAL-URL:https://midcoast.maineaudubon.org
X-WR-CALDESC:Events for Mid-Coast Audubon
REFRESH-INTERVAL;VALUE=DURATION:PT1H
X-Robots-Tag:noindex
X-PUBLISHED-TTL:PT1H
BEGIN:VTIMEZONE
TZID:America/New_York
BEGIN:DAYLIGHT
TZOFFSETFROM:-0500
TZOFFSETTO:-0400
TZNAME:EDT
DTSTART:20250309T070000
END:DAYLIGHT
BEGIN:STANDARD
TZOFFSETFROM:-0400
TZOFFSETTO:-0500
TZNAME:EST
DTSTART:20251102T060000
END:STANDARD
BEGIN:DAYLIGHT
TZOFFSETFROM:-0500
TZOFFSETTO:-0400
TZNAME:EDT
DTSTART:20260308T070000
END:DAYLIGHT
BEGIN:STANDARD
TZOFFSETFROM:-0400
TZOFFSETTO:-0500
TZNAME:EST
DTSTART:20261101T060000
END:STANDARD
BEGIN:DAYLIGHT
TZOFFSETFROM:-0500
TZOFFSETTO:-0400
TZNAME:EDT
DTSTART:20270314T070000
END:DAYLIGHT
BEGIN:STANDARD
TZOFFSETFROM:-0400
TZOFFSETTO:-0500
TZNAME:EST
DTSTART:20271107T060000
END:STANDARD
END:VTIMEZONE
BEGIN:VEVENT
DTSTART;TZID=America/New_York:20260509T070000
DTEND;TZID=America/New_York:20260509T100000
DTSTAMP:20260423T112424
CREATED:20200129T155117Z
LAST-MODIFIED:20260409T161407Z
UID:1101-1778310000-1778320800@midcoast.maineaudubon.org
SUMMARY:Field Trip: Sears Island\, Searsport
DESCRIPTION:Join us as we seek spring migrants at this Waldo County birding hotspot in Searsport.  \nDuring spring migration\, many songbird species rest and feed on Sears Island during their long northbound trip including warblers galore! Some are here to stay (Chestnut-sided\, Black and White\, Black-throated Green\, Black-throated Blue\, Yellow-rumped\, Common Yellowthroat\, American Redstart) and some have farther to go (Wilson’s\, Bay-breasted\, Blackpoll). Other songbirds include Scarlet Tanager\, thrushes\, flycatchers\, and White-throated Sparrow. The site is easy to navigate as the main trail is paved. \nAll are welcome! You don’t need to be an Audubon member or have advanced birding skills to join us.  Please register in advance by sending an email to midcoastfieldtrips at maineaudubon.org with your name and phone number. We will meet at the kiosk on the Sears Island causeway at 7 am.
URL:https://midcoast.maineaudubon.org/event/sears-island/
LOCATION:Sears Island\, Searsport\, ME\, United States
CATEGORIES:Event,Field Trips
ATTACH;FMTTYPE=image/jpeg:https://midcoast.maineaudubon.org/wp-content/uploads/2020/01/Sears-Island-aerial.jpeg
END:VEVENT
BEGIN:VEVENT
DTSTART;TZID=America/New_York:20260510T070000
DTEND;TZID=America/New_York:20260510T100000
DTSTAMP:20260423T112424
CREATED:20260312T210905Z
LAST-MODIFIED:20260409T161434Z
UID:1819-1778396400-1778407200@midcoast.maineaudubon.org
SUMMARY:Field Trip: Salt Bay Sunday! Damariscotta
DESCRIPTION:Join trip leaders Mael Glon and Jeff Cherry at Salt Bay Farm as as we hit full stride in the spring migration! We’ll look for waterfowl in the pond and the bay\, our favorite songbirds building and tending nests\, and the nesting Osprey pair.  \nDirections: We’ll meet in the Salt Bay Farm parking lot located at 110 Belvedere Rd\, Damariscotta\, ME 04543. This property has a good amount of parking available\, but please consider carpooling if possible. For more information about this preserve\, visit the following link: https://www.coastalrivers.org/trail/salt-bay-farm/  \nAll are welcome! You don’t need to be an Audubon member (but we hope you are!) or an experienced birder. For questions\, or to sign up\, please send an email to midcoastfieldtrips at maineaudubon.org with your name and phone number.
URL:https://midcoast.maineaudubon.org/event/field-trip-salt-bay-sunday-damariscotta-may/
LOCATION:Salt Bay Farm\, 110 Belvedere Rd.\, Damariscotta\, 04543\, United States
CATEGORIES:Event,Field Trips
ATTACH;FMTTYPE=image/jpeg:https://midcoast.maineaudubon.org/wp-content/uploads/2022/10/Salt-Bay-Farm-CRLT-e1744562683762.jpg
END:VEVENT
BEGIN:VEVENT
DTSTART;TZID=America/New_York:20260516T070000
DTEND;TZID=America/New_York:20260516T100000
DTSTAMP:20260423T112424
CREATED:20220801T145654Z
LAST-MODIFIED:20260409T161505Z
UID:1436-1778914800-1778925600@midcoast.maineaudubon.org
SUMMARY:Field Trip: Green Point Wildlife Area\, Dresden
DESCRIPTION:A former orchard and farm\, Green Point Wildlife Management Area in Dresden sits at the confluence of the Eastern and Kennebec Rivers. This midcoast birding hotspot hosts a variety of habitats including hayfields and an old orchard\, riverside floodplain forest\, wetlands\, and pine grove. We expect to see a wide variety of birds on this field trip\, with Baltimore Oriole\, Least Flycatcher\, and Blue-gray Gnatcatcher expected along with numerous warblers\, sparrows\, raptors\, and waterfowl. We recommend sturdy shoes and long pants for this outing. \nBecause parking is very limited at the wildlife area\, we strongly recommend carpooling. We will meet at the wildlife area at 7 am. \nDirections: On Route 128 (aka River Road) in Dresden\, .8 mile north of the intersection of Indian Road and Route 128. There are two parking lots for Green Point. Please park at the MDIFW maintenance building (large green building with a white door and roof) on the west side of road (coordinates: 44.05753\, -69.77290). \nTo sign up\, please send an email to midcoastfieldtrips at maineaudubon.org with your name and phone number.
URL:https://midcoast.maineaudubon.org/event/field-trip-green-point-wildlife-area-dresden/
LOCATION:Green Point Wildlife Management Area\, Dresden\, ME\, 04342\, United States
CATEGORIES:Event,Field Trips
ATTACH;FMTTYPE=image/jpeg:https://midcoast.maineaudubon.org/wp-content/uploads/2022/08/greenpoint2022springMBF.jpg
END:VEVENT
END:VCALENDAR